BEGIN:VCALENDAR
VERSION:2.0
PRODID:-//Elora Road Christian School - ECPv6.15.17.1//NONSGML v1.0//EN
CALSCALE:GREGORIAN
METHOD:PUBLISH
X-ORIGINAL-URL:https://www.eloraroad.ca
X-WR-CALDESC:Events for Elora Road Christian School
REFRESH-INTERVAL;VALUE=DURATION:PT1H
X-Robots-Tag:noindex
X-PUBLISHED-TTL:PT1H
BEGIN:VTIMEZONE
TZID:America/Toronto
BEGIN:DAYLIGHT
TZOFFSETFROM:-0500
TZOFFSETTO:-0400
TZNAME:EDT
DTSTART:20250309T070000
END:DAYLIGHT
BEGIN:STANDARD
TZOFFSETFROM:-0400
TZOFFSETTO:-0500
TZNAME:EST
DTSTART:20251102T060000
END:STANDARD
BEGIN:DAYLIGHT
TZOFFSETFROM:-0500
TZOFFSETTO:-0400
TZNAME:EDT
DTSTART:20260308T070000
END:DAYLIGHT
BEGIN:STANDARD
TZOFFSETFROM:-0400
TZOFFSETTO:-0500
TZNAME:EST
DTSTART:20261101T060000
END:STANDARD
BEGIN:DAYLIGHT
TZOFFSETFROM:-0500
TZOFFSETTO:-0400
TZNAME:EDT
DTSTART:20270314T070000
END:DAYLIGHT
BEGIN:STANDARD
TZOFFSETFROM:-0400
TZOFFSETTO:-0500
TZNAME:EST
DTSTART:20271107T060000
END:STANDARD
END:VTIMEZONE
BEGIN:VEVENT
DTSTART;VALUE=DATE:20260423
DTEND;VALUE=DATE:20260424
DTSTAMP:20260419T205005
CREATED:20250923T184056Z
LAST-MODIFIED:20260411T221346Z
UID:10000145-1776902400-1776988799@www.eloraroad.ca
SUMMARY:Celebration of Learning
DESCRIPTION:
URL:https://www.eloraroad.ca/event/celebration-of-learning-3/
END:VEVENT
BEGIN:VEVENT
DTSTART;VALUE=DATE:20260423
DTEND;VALUE=DATE:20260424
DTSTAMP:20260419T205005
CREATED:20260127T191324Z
LAST-MODIFIED:20260411T221346Z
UID:10000184-1776902400-1776988799@www.eloraroad.ca
SUMMARY:Pizza Day
DESCRIPTION:
URL:https://www.eloraroad.ca/event/pizza-day-17/
END:VEVENT
BEGIN:VEVENT
DTSTART;VALUE=DATE:20260428
DTEND;VALUE=DATE:20260429
DTSTAMP:20260419T205005
CREATED:20260128T191326Z
LAST-MODIFIED:20260411T221346Z
UID:10000185-1777334400-1777420799@www.eloraroad.ca
SUMMARY:Grade 5/6 field trip to River Run Centre
DESCRIPTION:
URL:https://www.eloraroad.ca/event/grade-5-6-field-trip-to-river-run-centre-2/
END:VEVENT
BEGIN:VEVENT
DTSTART;VALUE=DATE:20260430
DTEND;VALUE=DATE:20260501
DTSTAMP:20260419T205005
CREATED:20250923T184056Z
LAST-MODIFIED:20260411T221346Z
UID:10000146-1777507200-1777593599@www.eloraroad.ca
SUMMARY:Tuition Assistance Applications Due
DESCRIPTION:
URL:https://www.eloraroad.ca/event/tuition-assistance-applications-due-2/
END:VEVENT
BEGIN:VEVENT
DTSTART;TZID=America/Toronto:20260506T091000
DTEND;TZID=America/Toronto:20260506T110000
DTSTAMP:20260419T205005
CREATED:20250923T184056Z
LAST-MODIFIED:20260411T221346Z
UID:10000147-1778058600-1778065200@www.eloraroad.ca
SUMMARY:Parent Council meeting
DESCRIPTION:New members welcome! Join us in person at the school\, or contact the office for a Zoom link.
URL:https://www.eloraroad.ca/event/parent-council-meeting-8/
END:VEVENT
BEGIN:VEVENT
DTSTART;VALUE=DATE:20260508
DTEND;VALUE=DATE:20260509
DTSTAMP:20260419T205005
CREATED:20260128T191326Z
LAST-MODIFIED:20260411T221346Z
UID:10000186-1778198400-1778284799@www.eloraroad.ca
SUMMARY:ERCS Track & Field Day
DESCRIPTION:
URL:https://www.eloraroad.ca/event/ercs-track-field-day/
END:VEVENT
BEGIN:VEVENT
DTSTART;VALUE=DATE:20260508
DTEND;VALUE=DATE:20260509
DTSTAMP:20260419T205005
CREATED:20260128T191326Z
LAST-MODIFIED:20260411T221346Z
UID:10000187-1778198400-1778284799@www.eloraroad.ca
SUMMARY:Hot Dog Day
DESCRIPTION:
URL:https://www.eloraroad.ca/event/hot-dog-day-17/
END:VEVENT
BEGIN:VEVENT
DTSTART;VALUE=DATE:20260518
DTEND;VALUE=DATE:20260519
DTSTAMP:20260419T205005
CREATED:20250923T184056Z
LAST-MODIFIED:20260411T221346Z
UID:10000148-1779062400-1779148799@www.eloraroad.ca
SUMMARY:Victoria Day
DESCRIPTION:
URL:https://www.eloraroad.ca/event/victoria-day-2/
END:VEVENT
BEGIN:VEVENT
DTSTART;VALUE=DATE:20260519
DTEND;VALUE=DATE:20260520
DTSTAMP:20260419T205005
CREATED:20260128T191326Z
LAST-MODIFIED:20260411T221346Z
UID:10000188-1779148800-1779235199@www.eloraroad.ca
SUMMARY:CAASO Track & Field Meet
DESCRIPTION:
URL:https://www.eloraroad.ca/event/caaso-track-field-meet/
END:VEVENT
BEGIN:VEVENT
DTSTART;VALUE=DATE:20260521
DTEND;VALUE=DATE:20260522
DTSTAMP:20260419T205005
CREATED:20260128T191326Z
LAST-MODIFIED:20260411T221346Z
UID:10000189-1779321600-1779407999@www.eloraroad.ca
SUMMARY:Pizza Day
DESCRIPTION:
URL:https://www.eloraroad.ca/event/pizza-day-18/
END:VEVENT
BEGIN:VEVENT
DTSTART;TZID=America/Toronto:20260523T130000
DTEND;TZID=America/Toronto:20260523T160000
DTSTAMP:20260419T205005
CREATED:20260128T191326Z
LAST-MODIFIED:20260411T221346Z
UID:10000190-1779541200-1779552000@www.eloraroad.ca
SUMMARY:Community Fun Day
DESCRIPTION:
URL:https://www.eloraroad.ca/event/community-fun-day-2/
LOCATION:Elora Road Christian School\, 5696 Wellington Rd 7\, Guelph\, ON N1H 6J2\, Canada
END:VEVENT
BEGIN:VEVENT
DTSTART;VALUE=DATE:20260527
DTEND;VALUE=DATE:20260528
DTSTAMP:20260419T205005
CREATED:20260128T191326Z
LAST-MODIFIED:20260411T221346Z
UID:10000191-1779840000-1779926399@www.eloraroad.ca
SUMMARY:Grade 8 Grad photos
DESCRIPTION:
URL:https://www.eloraroad.ca/event/grade-8-grad-photos/
END:VEVENT
BEGIN:VEVENT
DTSTART;VALUE=DATE:20260531
DTEND;VALUE=DATE:20260605
DTSTAMP:20260419T205005
CREATED:20260128T191326Z
LAST-MODIFIED:20260411T221346Z
UID:10000192-1780185600-1780617599@www.eloraroad.ca
SUMMARY:Grad 8 Grad Trip
DESCRIPTION:
URL:https://www.eloraroad.ca/event/grad-8-grad-trip/
END:VEVENT
BEGIN:VEVENT
DTSTART;VALUE=DATE:20260605
DTEND;VALUE=DATE:20260606
DTSTAMP:20260419T205005
CREATED:20250923T184056Z
LAST-MODIFIED:20260411T221346Z
UID:10000149-1780617600-1780703999@www.eloraroad.ca
SUMMARY:PA Day
DESCRIPTION:
URL:https://www.eloraroad.ca/event/pa-day-6/
END:VEVENT
BEGIN:VEVENT
DTSTART;TZID=America/Toronto:20260610T091000
DTEND;TZID=America/Toronto:20260610T110000
DTSTAMP:20260419T205005
CREATED:20250923T184056Z
LAST-MODIFIED:20260411T221346Z
UID:10000150-1781082600-1781089200@www.eloraroad.ca
SUMMARY:Parent Council meeting
DESCRIPTION:New members welcome! Join us in person at the school\, or contact the office for a Zoom link.
URL:https://www.eloraroad.ca/event/parent-council-meeting-9/
END:VEVENT
BEGIN:VEVENT
DTSTART;VALUE=DATE:20260612
DTEND;VALUE=DATE:20260613
DTSTAMP:20260419T205005
CREATED:20260128T191326Z
LAST-MODIFIED:20260411T221346Z
UID:10000193-1781222400-1781308799@www.eloraroad.ca
SUMMARY:Info Session
DESCRIPTION:
URL:https://www.eloraroad.ca/event/info-session/
END:VEVENT
BEGIN:VEVENT
DTSTART;VALUE=DATE:20260612
DTEND;VALUE=DATE:20260613
DTSTAMP:20260419T205005
CREATED:20260128T191326Z
LAST-MODIFIED:20260411T221346Z
UID:10000194-1781222400-1781308799@www.eloraroad.ca
SUMMARY:Hot Dog Day
DESCRIPTION:
URL:https://www.eloraroad.ca/event/hot-dog-day-18/
END:VEVENT
BEGIN:VEVENT
DTSTART;VALUE=DATE:20260616
DTEND;VALUE=DATE:20260617
DTSTAMP:20260419T205005
CREATED:20260128T191326Z
LAST-MODIFIED:20260411T221346Z
UID:10000195-1781568000-1781654399@www.eloraroad.ca
SUMMARY:Water Fun Day
DESCRIPTION:
URL:https://www.eloraroad.ca/event/water-fun-day/
END:VEVENT
BEGIN:VEVENT
DTSTART;TZID=America/Toronto:20260617T093000
DTEND;TZID=America/Toronto:20260617T103000
DTSTAMP:20260419T205005
CREATED:20260128T191326Z
LAST-MODIFIED:20260411T221346Z
UID:10000196-1781688600-1781692200@www.eloraroad.ca
SUMMARY:French Play Presentations
DESCRIPTION:
URL:https://www.eloraroad.ca/event/french-play-presentations-2/
END:VEVENT
BEGIN:VEVENT
DTSTART;VALUE=DATE:20260618
DTEND;VALUE=DATE:20260619
DTSTAMP:20260419T205005
CREATED:20250923T184057Z
LAST-MODIFIED:20260411T221346Z
UID:10000152-1781740800-1781827199@www.eloraroad.ca
SUMMARY:Grade 8 Grad Banquet and Awards Ceremony
DESCRIPTION:
URL:https://www.eloraroad.ca/event/grade-8-grad-banquet-and-awards-ceremony/
END:VEVENT
BEGIN:VEVENT
DTSTART;VALUE=DATE:20260619
DTEND;VALUE=DATE:20260620
DTSTAMP:20260419T205005
CREATED:20250923T184057Z
LAST-MODIFIED:20260411T221346Z
UID:10000151-1781827200-1781913599@www.eloraroad.ca
SUMMARY:Last Day of School
DESCRIPTION:
URL:https://www.eloraroad.ca/event/last-day-of-school-2/
END:VEVENT
BEGIN:VEVENT
DTSTART;VALUE=DATE:20260624
DTEND;VALUE=DATE:20260625
DTSTAMP:20260419T205005
CREATED:20250923T184057Z
LAST-MODIFIED:20260411T221346Z
UID:10000153-1782259200-1782345599@www.eloraroad.ca
SUMMARY:Report Card pick up
DESCRIPTION:
URL:https://www.eloraroad.ca/event/report-card-pick-up-2/
END:VEVENT
END:VCALENDAR